BEGIN:VCALENDAR
VERSION:2.0
PRODID:-//Library Market//iCal Export//EN
BEGIN:VEVENT
SUMMARY:Drop-In Collage
UID:36343
DTSTAMP:20260423T005300Z
DTSTART:20260814T200000Z
DTEND:20260814T220000Z
LOCATION:1730 Llano St, Santa Fe, NM 87505, United States
ROOM: La Farge Library Community Room
DESCRIPTION:Join us in this self-led collage workshop. We will experiment 
 with images, paper, textiles, stamps, and other collage materials. All sup
 plies provided! No registration necessary. For Adults.  For disability 
 or translation accommodations, please email library@santafenm.gov or call 
 the Library.
URL:https://www.santafelibrary.org/event/drop-collage-36343
END:VEVENT
END:VCALENDAR
