BEGIN:VCALENDAR
VERSION:2.0
PRODID:-//Library Market//iCal Export//EN
BEGIN:VEVENT
SUMMARY:Rebel Readers Online Book Club
UID:44246
DTSTAMP:20260425T114600Z
DTSTART:20260523T220000Z
DTEND:20260523T230000Z
LOCATION:
DESCRIPTION:Rebel Readers We Read What We Want! Choose a book based on t
 he theme for each meeting, then share your thoughts with us! Check out th
 e themes for our upcoming meetings:May 23 Matriarchal SocietiesJune 13 Sel
 f DiscoveryJuly 11 Dig into your “To Read” pile (a book you’ve wante
 d to read for ages!)August 8 In Translation (a book that was orginally wri
 tten in a different language)For accommodations such as translations, ASL 
 interpreters, or disability needs, please email library@santafenm.gov or c
 all 505-955-6786.
URL:https://www.santafelibrary.org/event/draft-rebel-readers-book-club-442
 46
END:VEVENT
END:VCALENDAR
