BEGIN:VCALENDAR
VERSION:2.0
PRODID:-//Library Market//iCal Export//EN
BEGIN:VEVENT
SUMMARY:Stories for Tender Times (Registration Required)
UID:45500
DTSTAMP:20260422T024600Z
DTSTART:20260516T160000Z
DTEND:20260516T180000Z
LOCATION:Gerard&#039;s House for Grieving Children, 3204 Mercantile Road, 
 Santa Fe , NM 87507, United States
ROOM: Stories for Tender Times (Registration Required)
DESCRIPTION:Family Grief Story Time with Gerard’s House in Partnership w
 ith The Santa Fe Public LibraryJoin us for a special bilingual storytime a
 nd art activity designed for families who are grieving a loved one due to 
 death or separation by borders. Stories will be read in both English and S
 panish. Stories help us feel seen &amp; supported in challenging times whe
 n we are missing someone we love.Pre-registration is required. Please cont
 act Bridget Hinton 505-424-1800, extension 3 or bridget@gerardshouse.com 
 This program is also supported by the Friends of the Santa Fe Public Libra
 ry. Visit santafelibraryfriends.org to learn more. For accommodations suc
 h as translations, ASL interpreters, or disability needs, please email lib
 rary@santafenm.gov or call 505-955-2817.
URL:https://www.santafelibrary.org/event/stories-tender-times-registration
 -required-45500
END:VEVENT
END:VCALENDAR
