BEGIN:VCALENDAR
VERSION:2.0
PRODID:-//Library Market//iCal Export//EN
BEGIN:VEVENT
SUMMARY:Encore Presentation: Route 66 Centennial Celebration
UID:45524
DTSTAMP:20260424T012800Z
DTSTART:20260430T223000Z
DTEND:20260430T233000Z
LOCATION:Main Library, 145 Washington Ave, Santa Fe, NM 87501, United Stat
 es
ROOM: Main Library Community Room
DESCRIPTION:April 30, 1926 was the day that the numerical designation for 
 U.S. Route 66 was assigned. This year April 30, 2026 will mark the officia
 l kick-off for 100th anniversary. Learn about the people that trekked thro
 ugh eight states and three time zones in search of a better life via Route
  66, America’s Mother Road. Join Ana Pacheco, the former Santa Fe City 
 Historian (2015 to 2017), for her monthly presentations as she delves into
  four centuries of Santa Fe history. Through her thirty-three years as a w
 riter and historian Pacheco has created books, articles, blogs, videos, an
 d five-star walking tours of her beloved hometown. In the last three decad
 es she has pieced together the puzzle that makes Santa Fe the most histori
 cally significant city in the U. S. Learn more about Ana Pacheco and Histo
 ry in Santa Fe at historyinsantafe.com.  This program is made possible b
 y the support from Friends of the Santa Fe Public Library. Visit santafel
 ibraryfriends.org to learn more. For disabilities or translation accommod
 ations please email library@santafenm.gov or call 505-955-6781.
URL:https://www.santafelibrary.org/event/encore-presentation-route-66-cent
 ennial-celebration-45524
END:VEVENT
END:VCALENDAR
